BEGIN:VCALENDAR
VERSION:2.0
PRODID:icalendar-ruby
CALSCALE:GREGORIAN
METHOD:PUBLISH
BEGIN:VEVENT
DTSTAMP:20260423T101300Z
UID:308-3531152@newhopeumc.org
DTSTART:20260519T153000Z
DTEND:20260519T163000Z
CLASS:PUBLIC
CREATED:20260416T131614
DESCRIPTION:Mellow Mushroom
LAST-MODIFIED:20260416T131614
LOCATION:Mellow Mushroom Dawsonville
SUMMARY:GOMEO Fellowship
URL;VALUE=URI:https://www.newhopeumc.org/events/gomeo-fellowship/2026-05-19
ATTACH;FILENAME=GOMEO Logo.jpg;FMTTYPE=image/jpeg:https://dq5pwpg1q8ru0.clo
 udfront.net/2026/02/19/16/33/38/fc992583-2303-4c82-acc6-062130e76dd5/GOMEO
 %20Logo.jpg
END:VEVENT
END:VCALENDAR
