BEGIN:VCALENDAR
VERSION:2.0
PRODID:icalendar-ruby
CALSCALE:GREGORIAN
METHOD:PUBLISH
BEGIN:VEVENT
DTSTAMP:20260424T075642Z
UID:325-3598422@newhopeumc.org
DTSTART:20261122T210000Z
DTEND:20261122T230000Z
CLASS:PUBLIC
CREATED:20260422T131332
DESCRIPTION:JESUS IN THE GOSPELS takes participants deeper into Scripture a
 s they look up and compare passages and make notes on them. Examining diff
 erent accounts of the same or similar material brings richness and texture
  to study. Occasional words\, phrases\, or sentences printed in different 
 colors will aid quick visual comparison of similarities and differences in
  Gospel accounts.\n\n\n
LAST-MODIFIED:20260422T131332
LOCATION:
SUMMARY:Disciple Bible Study
URL;VALUE=URI:https://www.newhopeumc.org/events/disciple-bible-study--325/2
 026-11-22
ATTACH;FILENAME=Disciple Study.jpg;FMTTYPE=image/jpeg:https://dq5pwpg1q8ru0
 .cloudfront.net/2026/01/14/18/22/35/ae464b82-9a7d-4f90-a54f-141d575ee2f0/D
 isciple%20Study.jpg
END:VEVENT
END:VCALENDAR
