BEGIN:VCALENDAR
VERSION:2.0
PRODID:icalendar-ruby
CALSCALE:GREGORIAN
METHOD:PUBLISH
BEGIN:VEVENT
DTSTAMP:20260423T194824Z
UID:12-3610052@newhopeumc.org
DTSTART:20260915T230000Z
DTEND:20260916T000000Z
CLASS:PUBLIC
CREATED:20260423T154422
DESCRIPTION:
LAST-MODIFIED:20260423T154422
LOCATION:Hood Hall
SUMMARY:Cub Scouts 
URL;VALUE=URI:https://www.newhopeumc.org/events/cub-scouts/2026-09-15
ATTACH;FILENAME=F4FF6C80-2FF7-4B10-83B3-BC352E13EABB.png;FMTTYPE=image/png:
 https://dq5pwpg1q8ru0.cloudfront.net/2020/08/31/07/05/18/ed712841-0048-491
 a-9e03-8ed81f097428/F4FF6C80-2FF7-4B10-83B3-BC352E13EABB.png
END:VEVENT
END:VCALENDAR
