BEGIN:VCALENDAR
VERSION:2.0
PRODID:icalendar-ruby
CALSCALE:GREGORIAN
METHOD:PUBLISH
BEGIN:VEVENT
DTSTAMP:20260423T102721Z
UID:351-3598387@newhopeumc.org
DTSTART:20260628T151500Z
DTEND:20260628T180000Z
CLASS:PUBLIC
CREATED:20260422T130825
DESCRIPTION:More Details to Come
LAST-MODIFIED:20260422T130825
LOCATION:Hood Hall
SUMMARY:Churchwide BBQ Social
URL;VALUE=URI:https://www.newhopeumc.org/events/churchwide-bbq-social/2026-
 06-28
ATTACH;FILENAME=bbq Social.jpg;FMTTYPE=image/jpeg:https://dq5pwpg1q8ru0.clo
 udfront.net/2026/04/22/17/08/25/a6626452-83d1-4b30-bb4a-ac9874c9ae89/bbq%2
 0Social.jpg
END:VEVENT
END:VCALENDAR
