BEGIN:VCALENDAR
VERSION:2.0
PRODID:icalendar-ruby
CALSCALE:GREGORIAN
METHOD:PUBLISH
BEGIN:VEVENT
DTSTAMP:20260424T162813Z
UID:10-3617216@newhopeumc.org
DTSTART:20260928T230000Z
DTEND:20260929T000000Z
CLASS:PUBLIC
CREATED:20260424T095400
DESCRIPTION:
LAST-MODIFIED:20260424T095400
LOCATION:Hood Hall
SUMMARY:Boy Scouts 
URL;VALUE=URI:https://www.newhopeumc.org/events/boy-scouts/2026-09-28
ATTACH;FILENAME=ECC2D833-8970-4132-9B7C-589DCABD5D7B.jpeg;FMTTYPE=image/jpe
 g:https://dq5pwpg1q8ru0.cloudfront.net/2020/08/18/07/18/45/b8bc5cdf-63c5-4
 90f-a50b-8955baf96c90/ECC2D833-8970-4132-9B7C-589DCABD5D7B.jpeg
END:VEVENT
END:VCALENDAR
